BEGIN:VCALENDAR
VERSION:2.0
PRODID:-//Ipremo - ECPv6.15.12.2//NONSGML v1.0//EN
CALSCALE:GREGORIAN
METHOD:PUBLISH
X-ORIGINAL-URL:https://ipremo.sp.gov.br
X-WR-CALDESC:Eventos para Ipremo
REFRESH-INTERVAL;VALUE=DURATION:PT1H
X-Robots-Tag:noindex
X-PUBLISHED-TTL:PT1H
BEGIN:VTIMEZONE
TZID:America/Sao_Paulo
BEGIN:STANDARD
TZOFFSETFROM:-0300
TZOFFSETTO:-0300
TZNAME:-03
DTSTART:20200101T000000
END:STANDARD
END:VTIMEZONE
BEGIN:VEVENT
DTSTART;TZID=America/Sao_Paulo:20210525T140000
DTEND;TZID=America/Sao_Paulo:20210525T150000
DTSTAMP:20260425T235415
CREATED:20210806T125049Z
LAST-MODIFIED:20210806T125049Z
UID:1375-1621951200-1621954800@ipremo.sp.gov.br
SUMMARY:Reunião Conselho Fiscal
DESCRIPTION:
URL:https://ipremo.sp.gov.br/eventos/reuniao-conselho-fiscal-3/
LOCATION:São Paulo
END:VEVENT
END:VCALENDAR