BEGIN:VCALENDAR
VERSION:2.0
PRODID:-//Ipremo - ECPv6.15.12.2//NONSGML v1.0//EN
CALSCALE:GREGORIAN
METHOD:PUBLISH
X-ORIGINAL-URL:https://ipremo.sp.gov.br
X-WR-CALDESC:Eventos para Ipremo
REFRESH-INTERVAL;VALUE=DURATION:PT1H
X-Robots-Tag:noindex
X-PUBLISHED-TTL:PT1H
BEGIN:VTIMEZONE
TZID:America/Sao_Paulo
BEGIN:STANDARD
TZOFFSETFROM:-0300
TZOFFSETTO:-0300
TZNAME:-03
DTSTART:20210101T000000
END:STANDARD
END:VTIMEZONE
BEGIN:VEVENT
DTSTART;TZID=America/Sao_Paulo:20221206T090000
DTEND;TZID=America/Sao_Paulo:20221206T100000
DTSTAMP:20260422T171238
CREATED:20230330T125930Z
LAST-MODIFIED:20230330T125930Z
UID:1547-1670317200-1670320800@ipremo.sp.gov.br
SUMMARY:Reunião Comitê  de Investimentos
DESCRIPTION:
URL:https://ipremo.sp.gov.br/eventos/reuniao-comite-de-investimentos-29/
LOCATION:Sede Ipremo\, Avenida dos Bandeirantes\, 2070\, Ouroeste\, São Paulo\, 15685000\, Brasil
END:VEVENT
BEGIN:VEVENT
DTSTART;TZID=America/Sao_Paulo:20221206T140000
DTEND;TZID=America/Sao_Paulo:20221206T150000
DTSTAMP:20260422T171238
CREATED:20230330T130029Z
LAST-MODIFIED:20230330T130029Z
UID:1549-1670335200-1670338800@ipremo.sp.gov.br
SUMMARY:Reunião Conselho de Administração e Fiscal
DESCRIPTION:
URL:https://ipremo.sp.gov.br/eventos/reuniao-conselho-de-administracao-e-fiscal-3/
LOCATION:Sede Ipremo\, Avenida dos Bandeirantes\, 2070\, Ouroeste\, São Paulo\, 15685000\, Brasil
END:VEVENT
END:VCALENDAR