BEGIN:VCALENDAR
VERSION:2.0
PRODID:-//Ipremo - ECPv6.15.12.2//NONSGML v1.0//EN
CALSCALE:GREGORIAN
METHOD:PUBLISH
X-ORIGINAL-URL:https://ipremo.sp.gov.br
X-WR-CALDESC:Eventos para Ipremo
REFRESH-INTERVAL;VALUE=DURATION:PT1H
X-Robots-Tag:noindex
X-PUBLISHED-TTL:PT1H
BEGIN:VTIMEZONE
TZID:America/Sao_Paulo
BEGIN:STANDARD
TZOFFSETFROM:-0300
TZOFFSETTO:-0300
TZNAME:-03
DTSTART:20230101T000000
END:STANDARD
END:VTIMEZONE
BEGIN:VEVENT
DTSTART;TZID=America/Sao_Paulo:20241211T140000
DTEND;TZID=America/Sao_Paulo:20241211T170000
DTSTAMP:20260419T102421
CREATED:20250811T183845Z
LAST-MODIFIED:20250811T183845Z
UID:2017-1733925600-1733936400@ipremo.sp.gov.br
SUMMARY:Reunião Conselho de Administração e Comitê de Investimentos
DESCRIPTION:
URL:https://ipremo.sp.gov.br/eventos/reuniao-conselho-de-administracao-e-comite-de-investimentos-4/
LOCATION:Sede Ipremo\, Avenida dos Bandeirantes\, 2070\, Ouroeste\, São Paulo\, 15685000\, Brasil
END:VEVENT
END:VCALENDAR