BEGIN:VCALENDAR
VERSION:2.0
PRODID:-//Ipremo - ECPv6.15.12.2//NONSGML v1.0//EN
CALSCALE:GREGORIAN
METHOD:PUBLISH
X-ORIGINAL-URL:https://ipremo.sp.gov.br
X-WR-CALDESC:Eventos para Ipremo
REFRESH-INTERVAL;VALUE=DURATION:PT1H
X-Robots-Tag:noindex
X-PUBLISHED-TTL:PT1H
BEGIN:VTIMEZONE
TZID:America/Sao_Paulo
BEGIN:STANDARD
TZOFFSETFROM:-0300
TZOFFSETTO:-0300
TZNAME:-03
DTSTART:20210101T000000
END:STANDARD
END:VTIMEZONE
BEGIN:VEVENT
DTSTART;TZID=America/Sao_Paulo:20221121T090000
DTEND;TZID=America/Sao_Paulo:20221121T100000
DTSTAMP:20260422T201552
CREATED:20230330T125846Z
LAST-MODIFIED:20230330T125846Z
UID:1545-1669021200-1669024800@ipremo.sp.gov.br
SUMMARY:Reunião Comitê  de Investimentos
DESCRIPTION:
URL:https://ipremo.sp.gov.br/eventos/reuniao-comite-de-investimentos-28/
LOCATION:Sede Ipremo\, Avenida dos Bandeirantes\, 2070\, Ouroeste\, São Paulo\, 15685000\, Brasil
END:VEVENT
BEGIN:VEVENT
DTSTART;TZID=America/Sao_Paulo:20221206T090000
DTEND;TZID=America/Sao_Paulo:20221206T100000
DTSTAMP:20260422T201552
CREATED:20230330T125930Z
LAST-MODIFIED:20230330T125930Z
UID:1547-1670317200-1670320800@ipremo.sp.gov.br
SUMMARY:Reunião Comitê  de Investimentos
DESCRIPTION:
URL:https://ipremo.sp.gov.br/eventos/reuniao-comite-de-investimentos-29/
LOCATION:Sede Ipremo\, Avenida dos Bandeirantes\, 2070\, Ouroeste\, São Paulo\, 15685000\, Brasil
END:VEVENT
BEGIN:VEVENT
DTSTART;TZID=America/Sao_Paulo:20221206T140000
DTEND;TZID=America/Sao_Paulo:20221206T150000
DTSTAMP:20260422T201552
CREATED:20230330T130029Z
LAST-MODIFIED:20230330T130029Z
UID:1549-1670335200-1670338800@ipremo.sp.gov.br
SUMMARY:Reunião Conselho de Administração e Fiscal
DESCRIPTION:
URL:https://ipremo.sp.gov.br/eventos/reuniao-conselho-de-administracao-e-fiscal-3/
LOCATION:Sede Ipremo\, Avenida dos Bandeirantes\, 2070\, Ouroeste\, São Paulo\, 15685000\, Brasil
END:VEVENT
BEGIN:VEVENT
DTSTART;TZID=America/Sao_Paulo:20230117T130000
DTEND;TZID=America/Sao_Paulo:20230117T140000
DTSTAMP:20260422T201552
CREATED:20230330T125234Z
LAST-MODIFIED:20230330T125234Z
UID:1539-1673960400-1673964000@ipremo.sp.gov.br
SUMMARY:Reunião Comitê  de Investimentos
DESCRIPTION:
URL:https://ipremo.sp.gov.br/eventos/reuniao-comite-de-investimentos-26/
LOCATION:São Paulo
END:VEVENT
BEGIN:VEVENT
DTSTART;TZID=America/Sao_Paulo:20230224T160000
DTEND;TZID=America/Sao_Paulo:20230224T170000
DTSTAMP:20260422T201552
CREATED:20230330T125156Z
LAST-MODIFIED:20230330T125156Z
UID:1537-1677254400-1677258000@ipremo.sp.gov.br
SUMMARY:Reunião Comitê  de Investimentos
DESCRIPTION:
URL:https://ipremo.sp.gov.br/eventos/reuniao-comite-de-investimentos-25/
LOCATION:Sede Ipremo\, Avenida dos Bandeirantes\, 2070\, Ouroeste\, São Paulo\, 15685000\, Brasil
END:VEVENT
BEGIN:VEVENT
DTSTART;TZID=America/Sao_Paulo:20230313T150000
DTEND;TZID=America/Sao_Paulo:20230313T163000
DTSTAMP:20260422T201552
CREATED:20230330T125041Z
LAST-MODIFIED:20230330T125041Z
UID:1535-1678719600-1678725000@ipremo.sp.gov.br
SUMMARY:Reunião Conselho Administrativo e Fiscal
DESCRIPTION:
URL:https://ipremo.sp.gov.br/eventos/reuniao-conselho-administrativo-e-fiscal/
LOCATION:Sede Ipremo\, Avenida dos Bandeirantes\, 2070\, Ouroeste\, São Paulo\, 15685000\, Brasil
END:VEVENT
BEGIN:VEVENT
DTSTART;TZID=America/Sao_Paulo:20230424T140000
DTEND;TZID=America/Sao_Paulo:20230424T170000
DTSTAMP:20260422T201552
CREATED:20231023T172110Z
LAST-MODIFIED:20231023T172110Z
UID:1596-1682344800-1682355600@ipremo.sp.gov.br
SUMMARY:Reunião Comitê de Investimentos
DESCRIPTION:
URL:https://ipremo.sp.gov.br/eventos/reuniao-comite-de-investimentos-30/
LOCATION:Sede Ipremo\, Avenida dos Bandeirantes\, 2070\, Ouroeste\, São Paulo\, 15685000\, Brasil
END:VEVENT
BEGIN:VEVENT
DTSTART;TZID=America/Sao_Paulo:20230505T150000
DTEND;TZID=America/Sao_Paulo:20230505T170000
DTSTAMP:20260422T201552
CREATED:20231023T172224Z
LAST-MODIFIED:20231023T172224Z
UID:1598-1683298800-1683306000@ipremo.sp.gov.br
SUMMARY:Reunião Conselho de Administração e Conselho Fiscal
DESCRIPTION:
URL:https://ipremo.sp.gov.br/eventos/reuniao-conselho-de-administracao-e-conselho-fiscal-2/
LOCATION:Sede Ipremo\, Avenida dos Bandeirantes\, 2070\, Ouroeste\, São Paulo\, 15685000\, Brasil
END:VEVENT
BEGIN:VEVENT
DTSTART;TZID=America/Sao_Paulo:20230516T140000
DTEND;TZID=America/Sao_Paulo:20230516T150000
DTSTAMP:20260422T201552
CREATED:20231023T172320Z
LAST-MODIFIED:20231023T172357Z
UID:1600-1684245600-1684249200@ipremo.sp.gov.br
SUMMARY:Reunião Comitê de Investimentos
DESCRIPTION:
URL:https://ipremo.sp.gov.br/eventos/reuniao-comete-de-investimentos/
LOCATION:Sede Ipremo\, Avenida dos Bandeirantes\, 2070\, Ouroeste\, São Paulo\, 15685000\, Brasil
END:VEVENT
BEGIN:VEVENT
DTSTART;TZID=America/Sao_Paulo:20230621T090000
DTEND;TZID=America/Sao_Paulo:20230621T103000
DTSTAMP:20260422T201552
CREATED:20231023T172449Z
LAST-MODIFIED:20231023T172449Z
UID:1603-1687338000-1687343400@ipremo.sp.gov.br
SUMMARY:Reunião Comitê de Investimentos
DESCRIPTION:
URL:https://ipremo.sp.gov.br/eventos/reuniao-comite-de-investimentos-31/
LOCATION:Sede Ipremo\, Avenida dos Bandeirantes\, 2070\, Ouroeste\, São Paulo\, 15685000\, Brasil
END:VEVENT
BEGIN:VEVENT
DTSTART;TZID=America/Sao_Paulo:20230628T143000
DTEND;TZID=America/Sao_Paulo:20230628T170000
DTSTAMP:20260422T201552
CREATED:20231023T172538Z
LAST-MODIFIED:20231023T172538Z
UID:1605-1687962600-1687971600@ipremo.sp.gov.br
SUMMARY:Reunião Conselho de Administração e Fiscal
DESCRIPTION:
URL:https://ipremo.sp.gov.br/eventos/reuniao-conselho-de-administracao-e-fiscal-4/
LOCATION:Sede Ipremo\, Avenida dos Bandeirantes\, 2070\, Ouroeste\, São Paulo\, 15685000\, Brasil
END:VEVENT
BEGIN:VEVENT
DTSTART;TZID=America/Sao_Paulo:20230829T140000
DTEND;TZID=America/Sao_Paulo:20230829T150000
DTSTAMP:20260422T201552
CREATED:20231023T172630Z
LAST-MODIFIED:20231023T172630Z
UID:1607-1693317600-1693321200@ipremo.sp.gov.br
SUMMARY:Reunião Conselho de Administração
DESCRIPTION:
URL:https://ipremo.sp.gov.br/eventos/reuniao-conselho-de-administracao-8/
LOCATION:Sede Ipremo\, Avenida dos Bandeirantes\, 2070\, Ouroeste\, São Paulo\, 15685000\, Brasil
END:VEVENT
BEGIN:VEVENT
DTSTART;TZID=America/Sao_Paulo:20230914T140000
DTEND;TZID=America/Sao_Paulo:20230914T150000
DTSTAMP:20260422T201552
CREATED:20240509T105113Z
LAST-MODIFIED:20240509T105405Z
UID:1719-1694700000-1694703600@ipremo.sp.gov.br
SUMMARY:REUNIÃO COMITE DE INVESTIMENTOS
DESCRIPTION:
URL:https://ipremo.sp.gov.br/eventos/reuniao-comite-de-investimentos-32/
LOCATION:Sede Ipremo\, Avenida dos Bandeirantes\, 2070\, Ouroeste\, São Paulo\, 15685000\, Brasil
END:VEVENT
BEGIN:VEVENT
DTSTART;TZID=America/Sao_Paulo:20231026T143000
DTEND;TZID=America/Sao_Paulo:20231026T160000
DTSTAMP:20260422T201552
CREATED:20240509T105545Z
LAST-MODIFIED:20240509T105545Z
UID:1722-1698330600-1698336000@ipremo.sp.gov.br
SUMMARY:REUNIÃO CONSELHO DE ADMINISTRAÇÃO E FISCAL
DESCRIPTION:
URL:https://ipremo.sp.gov.br/eventos/reuniao-conselho-de-administracao-e-fiscal-5/
LOCATION:São Paulo
END:VEVENT
BEGIN:VEVENT
DTSTART;TZID=America/Sao_Paulo:20231109T140000
DTEND;TZID=America/Sao_Paulo:20231109T150000
DTSTAMP:20260422T201552
CREATED:20240509T105705Z
LAST-MODIFIED:20240509T105847Z
UID:1724-1699538400-1699542000@ipremo.sp.gov.br
SUMMARY:REUNIÃO COMITE DE INVESTIMENTOS
DESCRIPTION:
URL:https://ipremo.sp.gov.br/eventos/reuniao-comite-de-investimentos-33/
LOCATION:São Paulo
END:VEVENT
BEGIN:VEVENT
DTSTART;TZID=America/Sao_Paulo:20231123T100000
DTEND;TZID=America/Sao_Paulo:20231123T110000
DTSTAMP:20260422T201552
CREATED:20240509T105954Z
LAST-MODIFIED:20240509T105954Z
UID:1726-1700733600-1700737200@ipremo.sp.gov.br
SUMMARY:REUNIÃO COMITE DE INVESTIMENTOS
DESCRIPTION:
URL:https://ipremo.sp.gov.br/eventos/reuniao-comite-de-investimentos-34/
LOCATION:São Paulo
END:VEVENT
BEGIN:VEVENT
DTSTART;TZID=America/Sao_Paulo:20231127T140000
DTEND;TZID=America/Sao_Paulo:20231127T153000
DTSTAMP:20260422T201552
CREATED:20240509T121830Z
LAST-MODIFIED:20240509T121830Z
UID:1728-1701093600-1701099000@ipremo.sp.gov.br
SUMMARY:REUNIÃO CONSELHO DE ADMINISTRAÇÃO E FISCAL
DESCRIPTION:
URL:https://ipremo.sp.gov.br/eventos/reuniao-conselho-de-administracao-e-fiscal-6/
LOCATION:São Paulo
END:VEVENT
BEGIN:VEVENT
DTSTART;TZID=America/Sao_Paulo:20231211T150000
DTEND;TZID=America/Sao_Paulo:20231211T163000
DTSTAMP:20260422T201552
CREATED:20240509T121952Z
LAST-MODIFIED:20240509T121952Z
UID:1730-1702306800-1702312200@ipremo.sp.gov.br
SUMMARY:REUNIÃO CONSELHO DE ADMINISTRAÇÃO E COMITÊ DE INVESTIMENTOS
DESCRIPTION:
URL:https://ipremo.sp.gov.br/eventos/reuniao-conselho-de-administracao-e-comite-de-investimentos-2/
LOCATION:São Paulo
END:VEVENT
BEGIN:VEVENT
DTSTART;TZID=America/Sao_Paulo:20240122T100000
DTEND;TZID=America/Sao_Paulo:20240122T103000
DTSTAMP:20260422T201552
CREATED:20240509T122043Z
LAST-MODIFIED:20240509T122043Z
UID:1732-1705917600-1705919400@ipremo.sp.gov.br
SUMMARY:REUNIÃO COMITÊ DE INVESTIMENTOS
DESCRIPTION:
URL:https://ipremo.sp.gov.br/eventos/reuniao-comite-de-investimentos-35/
LOCATION:São Paulo
END:VEVENT
BEGIN:VEVENT
DTSTART;TZID=America/Sao_Paulo:20240228T140000
DTEND;TZID=America/Sao_Paulo:20240228T153000
DTSTAMP:20260422T201552
CREATED:20240509T122204Z
LAST-MODIFIED:20240509T122204Z
UID:1734-1709128800-1709134200@ipremo.sp.gov.br
SUMMARY:REUNIÃO CONSELHO DE ADMINISTRAÇÃO E FISCAL
DESCRIPTION:
URL:https://ipremo.sp.gov.br/eventos/reuniao-conselho-de-administracao-e-fiscal-7/
LOCATION:São Paulo
END:VEVENT
BEGIN:VEVENT
DTSTART;TZID=America/Sao_Paulo:20240327T150000
DTEND;TZID=America/Sao_Paulo:20240327T170000
DTSTAMP:20260422T201552
CREATED:20240509T122258Z
LAST-MODIFIED:20240509T122258Z
UID:1736-1711551600-1711558800@ipremo.sp.gov.br
SUMMARY:REUNIÃO CONSELHO DE ADMINISTRAÇÃO E FISCAL
DESCRIPTION:
URL:https://ipremo.sp.gov.br/eventos/reuniao-conselho-de-administracao-e-fiscal-8/
LOCATION:São Paulo
END:VEVENT
BEGIN:VEVENT
DTSTART;TZID=America/Sao_Paulo:20240418T150000
DTEND;TZID=America/Sao_Paulo:20240418T160000
DTSTAMP:20260422T201552
CREATED:20250722T160909Z
LAST-MODIFIED:20250722T160909Z
UID:1919-1713452400-1713456000@ipremo.sp.gov.br
SUMMARY:Reunião Comitê de Investimentos
DESCRIPTION:
URL:https://ipremo.sp.gov.br/eventos/reuniao-comite-de-investimentos-36/
LOCATION:Sede Ipremo\, Avenida dos Bandeirantes\, 2070\, Ouroeste\, São Paulo\, 15685000\, Brasil
END:VEVENT
BEGIN:VEVENT
DTSTART;TZID=America/Sao_Paulo:20240419T110000
DTEND;TZID=America/Sao_Paulo:20240419T120000
DTSTAMP:20260422T201552
CREATED:20250722T161020Z
LAST-MODIFIED:20250722T161020Z
UID:1921-1713524400-1713528000@ipremo.sp.gov.br
SUMMARY:Reunião Comitê de Investimentos
DESCRIPTION:
URL:https://ipremo.sp.gov.br/eventos/reuniao-comite-de-investimentos-37/
LOCATION:Sede Ipremo\, Avenida dos Bandeirantes\, 2070\, Ouroeste\, São Paulo\, 15685000\, Brasil
END:VEVENT
BEGIN:VEVENT
DTSTART;TZID=America/Sao_Paulo:20240426T150000
DTEND;TZID=America/Sao_Paulo:20240426T170000
DTSTAMP:20260422T201552
CREATED:20250811T182617Z
LAST-MODIFIED:20250811T182617Z
UID:1997-1714143600-1714150800@ipremo.sp.gov.br
SUMMARY:Reunião  Comitê de Investimentos
DESCRIPTION:
URL:https://ipremo.sp.gov.br/eventos/reuniao-comite-de-investimentos-38/
LOCATION:Sede Ipremo\, Avenida dos Bandeirantes\, 2070\, Ouroeste\, São Paulo\, 15685000\, Brasil
END:VEVENT
BEGIN:VEVENT
DTSTART;TZID=America/Sao_Paulo:20240528T150000
DTEND;TZID=America/Sao_Paulo:20240528T170000
DTSTAMP:20260422T201552
CREATED:20250811T182440Z
LAST-MODIFIED:20250811T182440Z
UID:1995-1716908400-1716915600@ipremo.sp.gov.br
SUMMARY:Reunião Conselho de Administração
DESCRIPTION:
URL:https://ipremo.sp.gov.br/eventos/reuniao-conselho-de-administracao-9/
LOCATION:Sede Ipremo\, Avenida dos Bandeirantes\, 2070\, Ouroeste\, São Paulo\, 15685000\, Brasil
END:VEVENT
BEGIN:VEVENT
DTSTART;TZID=America/Sao_Paulo:20240618T150000
DTEND;TZID=America/Sao_Paulo:20240618T170000
DTSTAMP:20260422T201552
CREATED:20250811T182715Z
LAST-MODIFIED:20250811T182715Z
UID:1999-1718722800-1718730000@ipremo.sp.gov.br
SUMMARY:Reunião Conselho Fiscal e Comitê de Investimentos
DESCRIPTION:
URL:https://ipremo.sp.gov.br/eventos/reuniao-conselho-fiscal-e-comite-de-investimentos/
LOCATION:Sede Ipremo\, Avenida dos Bandeirantes\, 2070\, Ouroeste\, São Paulo\, 15685000\, Brasil
END:VEVENT
BEGIN:VEVENT
DTSTART;TZID=America/Sao_Paulo:20240619T150000
DTEND;TZID=America/Sao_Paulo:20240619T170000
DTSTAMP:20260422T201552
CREATED:20250811T182903Z
LAST-MODIFIED:20250811T182903Z
UID:2001-1718809200-1718816400@ipremo.sp.gov.br
SUMMARY:Reunião  Comitê de Investimentos
DESCRIPTION:
URL:https://ipremo.sp.gov.br/eventos/reuniao-comite-de-investimentos-39/
LOCATION:Sede Ipremo\, Avenida dos Bandeirantes\, 2070\, Ouroeste\, São Paulo\, 15685000\, Brasil
END:VEVENT
BEGIN:VEVENT
DTSTART;TZID=America/Sao_Paulo:20240724T150000
DTEND;TZID=America/Sao_Paulo:20240724T170000
DTSTAMP:20260422T201552
CREATED:20250811T183040Z
LAST-MODIFIED:20250811T183040Z
UID:2003-1721833200-1721840400@ipremo.sp.gov.br
SUMMARY:Reunião Conselho de Administração
DESCRIPTION:
URL:https://ipremo.sp.gov.br/eventos/reuniao-conselho-de-administracao-10/
LOCATION:Sede Ipremo\, Avenida dos Bandeirantes\, 2070\, Ouroeste\, São Paulo\, 15685000\, Brasil
END:VEVENT
BEGIN:VEVENT
DTSTART;TZID=America/Sao_Paulo:20240815T140000
DTEND;TZID=America/Sao_Paulo:20240815T170000
DTSTAMP:20260422T201552
CREATED:20250811T183210Z
LAST-MODIFIED:20250811T183210Z
UID:2005-1723730400-1723741200@ipremo.sp.gov.br
SUMMARY:Reunião Comitê de Investimentos
DESCRIPTION:
URL:https://ipremo.sp.gov.br/eventos/reuniao-comite-de-investimentos-40/
LOCATION:Sede Ipremo\, Avenida dos Bandeirantes\, 2070\, Ouroeste\, São Paulo\, 15685000\, Brasil
END:VEVENT
BEGIN:VEVENT
DTSTART;TZID=America/Sao_Paulo:20240918T140000
DTEND;TZID=America/Sao_Paulo:20240918T170000
DTSTAMP:20260422T201552
CREATED:20250811T183607Z
LAST-MODIFIED:20250811T183607Z
UID:2011-1726668000-1726678800@ipremo.sp.gov.br
SUMMARY:Reunião Conselho de Administração e Comitê de Investimentos
DESCRIPTION:
URL:https://ipremo.sp.gov.br/eventos/reuniao-conselho-de-administracao-e-comite-de-investimentos-3/
LOCATION:Sede Ipremo\, Avenida dos Bandeirantes\, 2070\, Ouroeste\, São Paulo\, 15685000\, Brasil
END:VEVENT
END:VCALENDAR