BEGIN:VCALENDAR
VERSION:2.0
PRODID:-//Ipremo - ECPv6.15.12.2//NONSGML v1.0//EN
CALSCALE:GREGORIAN
METHOD:PUBLISH
X-WR-CALNAME:Ipremo
X-ORIGINAL-URL:https://ipremo.sp.gov.br
X-WR-CALDESC:Eventos para Ipremo
REFRESH-INTERVAL;VALUE=DURATION:PT1H
X-Robots-Tag:noindex
X-PUBLISHED-TTL:PT1H
BEGIN:VTIMEZONE
TZID:America/Sao_Paulo
BEGIN:STANDARD
TZOFFSETFROM:-0300
TZOFFSETTO:-0300
TZNAME:-03
DTSTART:20200101T000000
END:STANDARD
END:VTIMEZONE
BEGIN:VEVENT
DTSTART;TZID=America/Sao_Paulo:20210315T140000
DTEND;TZID=America/Sao_Paulo:20210315T150000
DTSTAMP:20260426T011816
CREATED:20210806T123345Z
LAST-MODIFIED:20210806T123345Z
UID:1369-1615816800-1615820400@ipremo.sp.gov.br
SUMMARY:Reunião Comitê de Investimentos
DESCRIPTION:
URL:https://ipremo.sp.gov.br/eventos/reuniao-comite-de-investimentos-13/
LOCATION:São Paulo
END:VEVENT
BEGIN:VEVENT
DTSTART;TZID=America/Sao_Paulo:20210326T150000
DTEND;TZID=America/Sao_Paulo:20210326T170000
DTSTAMP:20260426T011816
CREATED:20210806T124901Z
LAST-MODIFIED:20210806T124901Z
UID:1371-1616770800-1616778000@ipremo.sp.gov.br
SUMMARY:Reunião Conselho de Administração
DESCRIPTION:
URL:https://ipremo.sp.gov.br/eventos/reuniao-conselho-de-administracao-6/
LOCATION:São Paulo
END:VEVENT
END:VCALENDAR