BEGIN:VCALENDAR
VERSION:2.0
PRODID:-//Ipremo - ECPv6.15.12.2//NONSGML v1.0//EN
CALSCALE:GREGORIAN
METHOD:PUBLISH
X-ORIGINAL-URL:https://ipremo.sp.gov.br
X-WR-CALDESC:Eventos para Ipremo
REFRESH-INTERVAL;VALUE=DURATION:PT1H
X-Robots-Tag:noindex
X-PUBLISHED-TTL:PT1H
BEGIN:VTIMEZONE
TZID:America/Sao_Paulo
BEGIN:STANDARD
TZOFFSETFROM:-0300
TZOFFSETTO:-0300
TZNAME:-03
DTSTART:20200101T000000
END:STANDARD
END:VTIMEZONE
BEGIN:VEVENT
DTSTART;TZID=America/Sao_Paulo:20210419T150000
DTEND;TZID=America/Sao_Paulo:20210419T170000
DTSTAMP:20260425T235416
CREATED:20210806T124953Z
LAST-MODIFIED:20210806T124953Z
UID:1373-1618844400-1618851600@ipremo.sp.gov.br
SUMMARY:Reunião Conselho de Administração
DESCRIPTION:
URL:https://ipremo.sp.gov.br/eventos/reuniao-conselho-de-administracao-7/
LOCATION:São Paulo
END:VEVENT
END:VCALENDAR