BEGIN:VCALENDAR
VERSION:2.0
PRODID:-//Ipremo - ECPv6.15.12.2//NONSGML v1.0//EN
CALSCALE:GREGORIAN
METHOD:PUBLISH
X-ORIGINAL-URL:https://ipremo.sp.gov.br
X-WR-CALDESC:Eventos para Ipremo
REFRESH-INTERVAL;VALUE=DURATION:PT1H
X-Robots-Tag:noindex
X-PUBLISHED-TTL:PT1H
BEGIN:VTIMEZONE
TZID:America/Sao_Paulo
BEGIN:STANDARD
TZOFFSETFROM:-0300
TZOFFSETTO:-0300
TZNAME:-03
DTSTART:20210101T000000
END:STANDARD
END:VTIMEZONE
BEGIN:VEVENT
DTSTART;TZID=America/Sao_Paulo:20220506T143000
DTEND;TZID=America/Sao_Paulo:20220506T153000
DTSTAMP:20260423T023731
CREATED:20220921T174348Z
LAST-MODIFIED:20220921T174348Z
UID:1507-1651847400-1651851000@ipremo.sp.gov.br
SUMMARY:Reunião Comitê de Investimentos
DESCRIPTION:
URL:https://ipremo.sp.gov.br/eventos/reuniao-comite-de-investimentos-18/
LOCATION:Sede Ipremo\, Avenida dos Bandeirantes\, 2070\, Ouroeste\, São Paulo\, 15685000\, Brasil
END:VEVENT
BEGIN:VEVENT
DTSTART;TZID=America/Sao_Paulo:20220511T143000
DTEND;TZID=America/Sao_Paulo:20220511T153000
DTSTAMP:20260423T023731
CREATED:20220921T174459Z
LAST-MODIFIED:20220921T174459Z
UID:1509-1652279400-1652283000@ipremo.sp.gov.br
SUMMARY:Reunião Comitê de Investimentos
DESCRIPTION:
URL:https://ipremo.sp.gov.br/eventos/reuniao-comite-de-investimentos-19/
LOCATION:Sede Ipremo\, Avenida dos Bandeirantes\, 2070\, Ouroeste\, São Paulo\, 15685000\, Brasil
END:VEVENT
BEGIN:VEVENT
DTSTART;TZID=America/Sao_Paulo:20220526T140000
DTEND;TZID=America/Sao_Paulo:20220526T170000
DTSTAMP:20260423T023732
CREATED:20220921T174632Z
LAST-MODIFIED:20220921T174632Z
UID:1511-1653573600-1653584400@ipremo.sp.gov.br
SUMMARY:Reunião Conselho de Administração e Fiscal
DESCRIPTION:
URL:https://ipremo.sp.gov.br/eventos/reuniao-conselho-de-administracao-e-fiscal/
LOCATION:Sede Ipremo\, Avenida dos Bandeirantes\, 2070\, Ouroeste\, São Paulo\, 15685000\, Brasil
END:VEVENT
END:VCALENDAR