BEGIN:VCALENDAR
VERSION:2.0
PRODID:-//Ipremo - ECPv6.15.12.2//NONSGML v1.0//EN
CALSCALE:GREGORIAN
METHOD:PUBLISH
X-WR-CALNAME:Ipremo
X-ORIGINAL-URL:https://ipremo.sp.gov.br
X-WR-CALDESC:Eventos para Ipremo
REFRESH-INTERVAL;VALUE=DURATION:PT1H
X-Robots-Tag:noindex
X-PUBLISHED-TTL:PT1H
BEGIN:VTIMEZONE
TZID:America/Sao_Paulo
BEGIN:STANDARD
TZOFFSETFROM:-0300
TZOFFSETTO:-0300
TZNAME:-03
DTSTART:20210101T000000
END:STANDARD
END:VTIMEZONE
BEGIN:VEVENT
DTSTART;TZID=America/Sao_Paulo:20220707T090000
DTEND;TZID=America/Sao_Paulo:20220707T100000
DTSTAMP:20260422T233226
CREATED:20220921T174829Z
LAST-MODIFIED:20220921T174829Z
UID:1515-1657184400-1657188000@ipremo.sp.gov.br
SUMMARY:Reunião Comitê de Investimentos
DESCRIPTION:
URL:https://ipremo.sp.gov.br/eventos/reuniao-comite-de-investimentos-21/
LOCATION:Sede Ipremo\, Avenida dos Bandeirantes\, 2070\, Ouroeste\, São Paulo\, 15685000\, Brasil
END:VEVENT
BEGIN:VEVENT
DTSTART;TZID=America/Sao_Paulo:20220708T143000
DTEND;TZID=America/Sao_Paulo:20220708T153000
DTSTAMP:20260422T233226
CREATED:20220921T174923Z
LAST-MODIFIED:20220921T174923Z
UID:1517-1657290600-1657294200@ipremo.sp.gov.br
SUMMARY:Reunião Comitê de Investimentos
DESCRIPTION:
URL:https://ipremo.sp.gov.br/eventos/reuniao-comite-de-investimentos-22/
LOCATION:Sede Ipremo\, Avenida dos Bandeirantes\, 2070\, Ouroeste\, São Paulo\, 15685000\, Brasil
END:VEVENT
BEGIN:VEVENT
DTSTART;TZID=America/Sao_Paulo:20220720T143000
DTEND;TZID=America/Sao_Paulo:20220720T153000
DTSTAMP:20260422T233226
CREATED:20220921T175009Z
LAST-MODIFIED:20220921T175009Z
UID:1519-1658327400-1658331000@ipremo.sp.gov.br
SUMMARY:Reunião Comitê de Investimentos
DESCRIPTION:
URL:https://ipremo.sp.gov.br/eventos/reuniao-comite-de-investimentos-23/
LOCATION:Sede Ipremo\, Avenida dos Bandeirantes\, 2070\, Ouroeste\, São Paulo\, 15685000\, Brasil
END:VEVENT
BEGIN:VEVENT
DTSTART;TZID=America/Sao_Paulo:20220727T140000
DTEND;TZID=America/Sao_Paulo:20220727T160000
DTSTAMP:20260422T233226
CREATED:20220921T175125Z
LAST-MODIFIED:20220921T175125Z
UID:1521-1658930400-1658937600@ipremo.sp.gov.br
SUMMARY:Reunião Conselho de Administração e Fiscal
DESCRIPTION:
URL:https://ipremo.sp.gov.br/eventos/reuniao-conselho-de-administracao-e-fiscal-2/
LOCATION:Sede Ipremo\, Avenida dos Bandeirantes\, 2070\, Ouroeste\, São Paulo\, 15685000\, Brasil
END:VEVENT
END:VCALENDAR