BEGIN:VCALENDAR
VERSION:2.0
PRODID:-//Ipremo - ECPv6.15.12.2//NONSGML v1.0//EN
CALSCALE:GREGORIAN
METHOD:PUBLISH
X-WR-CALNAME:Ipremo
X-ORIGINAL-URL:https://ipremo.sp.gov.br
X-WR-CALDESC:Eventos para Ipremo
REFRESH-INTERVAL;VALUE=DURATION:PT1H
X-Robots-Tag:noindex
X-PUBLISHED-TTL:PT1H
BEGIN:VTIMEZONE
TZID:America/Sao_Paulo
BEGIN:STANDARD
TZOFFSETFROM:-0300
TZOFFSETTO:-0300
TZNAME:-03
DTSTART:20220101T000000
END:STANDARD
END:VTIMEZONE
BEGIN:VEVENT
DTSTART;TZID=America/Sao_Paulo:20231211T150000
DTEND;TZID=America/Sao_Paulo:20231211T163000
DTSTAMP:20260420T025745
CREATED:20240509T121952Z
LAST-MODIFIED:20240509T121952Z
UID:1730-1702306800-1702312200@ipremo.sp.gov.br
SUMMARY:REUNIÃO CONSELHO DE ADMINISTRAÇÃO E COMITÊ DE INVESTIMENTOS
DESCRIPTION:
URL:https://ipremo.sp.gov.br/eventos/reuniao-conselho-de-administracao-e-comite-de-investimentos-2/
LOCATION:São Paulo
END:VEVENT
END:VCALENDAR