BEGIN:VCALENDAR
VERSION:2.0
PRODID:-//Ipremo - ECPv6.15.12.2//NONSGML v1.0//EN
CALSCALE:GREGORIAN
METHOD:PUBLISH
X-WR-CALNAME:Ipremo
X-ORIGINAL-URL:https://ipremo.sp.gov.br
X-WR-CALDESC:Eventos para Ipremo
REFRESH-INTERVAL;VALUE=DURATION:PT1H
X-Robots-Tag:noindex
X-PUBLISHED-TTL:PT1H
BEGIN:VTIMEZONE
TZID:America/Sao_Paulo
BEGIN:STANDARD
TZOFFSETFROM:-0300
TZOFFSETTO:-0300
TZNAME:-03
DTSTART:20230101T000000
END:STANDARD
END:VTIMEZONE
BEGIN:VEVENT
DTSTART;TZID=America/Sao_Paulo:20240418T150000
DTEND;TZID=America/Sao_Paulo:20240418T160000
DTSTAMP:20260419T205822
CREATED:20250722T160909Z
LAST-MODIFIED:20250722T160909Z
UID:1919-1713452400-1713456000@ipremo.sp.gov.br
SUMMARY:Reunião Comitê de Investimentos
DESCRIPTION:
URL:https://ipremo.sp.gov.br/eventos/reuniao-comite-de-investimentos-36/
LOCATION:Sede Ipremo\, Avenida dos Bandeirantes\, 2070\, Ouroeste\, São Paulo\, 15685000\, Brasil
END:VEVENT
BEGIN:VEVENT
DTSTART;TZID=America/Sao_Paulo:20240419T110000
DTEND;TZID=America/Sao_Paulo:20240419T120000
DTSTAMP:20260419T205822
CREATED:20250722T161020Z
LAST-MODIFIED:20250722T161020Z
UID:1921-1713524400-1713528000@ipremo.sp.gov.br
SUMMARY:Reunião Comitê de Investimentos
DESCRIPTION:
URL:https://ipremo.sp.gov.br/eventos/reuniao-comite-de-investimentos-37/
LOCATION:Sede Ipremo\, Avenida dos Bandeirantes\, 2070\, Ouroeste\, São Paulo\, 15685000\, Brasil
END:VEVENT
BEGIN:VEVENT
DTSTART;TZID=America/Sao_Paulo:20240426T150000
DTEND;TZID=America/Sao_Paulo:20240426T170000
DTSTAMP:20260419T205822
CREATED:20250811T182617Z
LAST-MODIFIED:20250811T182617Z
UID:1997-1714143600-1714150800@ipremo.sp.gov.br
SUMMARY:Reunião  Comitê de Investimentos
DESCRIPTION:
URL:https://ipremo.sp.gov.br/eventos/reuniao-comite-de-investimentos-38/
LOCATION:Sede Ipremo\, Avenida dos Bandeirantes\, 2070\, Ouroeste\, São Paulo\, 15685000\, Brasil
END:VEVENT
END:VCALENDAR