BEGIN:VCALENDAR
VERSION:2.0
PRODID:-//Ipremo - ECPv6.15.12.2//NONSGML v1.0//EN
CALSCALE:GREGORIAN
METHOD:PUBLISH
X-ORIGINAL-URL:https://ipremo.sp.gov.br
X-WR-CALDESC:Eventos para Ipremo
REFRESH-INTERVAL;VALUE=DURATION:PT1H
X-Robots-Tag:noindex
X-PUBLISHED-TTL:PT1H
BEGIN:VTIMEZONE
TZID:America/Sao_Paulo
BEGIN:STANDARD
TZOFFSETFROM:-0300
TZOFFSETTO:-0300
TZNAME:-03
DTSTART:20230101T000000
END:STANDARD
END:VTIMEZONE
BEGIN:VEVENT
DTSTART;TZID=America/Sao_Paulo:20240918T140000
DTEND;TZID=America/Sao_Paulo:20240918T170000
DTSTAMP:20260419T134100
CREATED:20250811T183607Z
LAST-MODIFIED:20250811T183607Z
UID:2011-1726668000-1726678800@ipremo.sp.gov.br
SUMMARY:Reunião Conselho de Administração e Comitê de Investimentos
DESCRIPTION:
URL:https://ipremo.sp.gov.br/eventos/reuniao-conselho-de-administracao-e-comite-de-investimentos-3/
LOCATION:Sede Ipremo\, Avenida dos Bandeirantes\, 2070\, Ouroeste\, São Paulo\, 15685000\, Brasil
END:VEVENT
BEGIN:VEVENT
DTSTART;TZID=America/Sao_Paulo:20240918T143000
DTEND;TZID=America/Sao_Paulo:20240918T170000
DTSTAMP:20260419T134100
CREATED:20250811T183444Z
LAST-MODIFIED:20250811T183444Z
UID:2009-1726669800-1726678800@ipremo.sp.gov.br
SUMMARY:Reunião  Comitê de Investimentos
DESCRIPTION:
URL:https://ipremo.sp.gov.br/eventos/reuniao-comite-de-investimentos-41/
LOCATION:Sede Ipremo\, Avenida dos Bandeirantes\, 2070\, Ouroeste\, São Paulo\, 15685000\, Brasil
END:VEVENT
BEGIN:VEVENT
DTSTART;TZID=America/Sao_Paulo:20240918T150000
DTEND;TZID=America/Sao_Paulo:20240918T170000
DTSTAMP:20260419T134100
CREATED:20250811T183355Z
LAST-MODIFIED:20250811T183355Z
UID:2007-1726671600-1726678800@ipremo.sp.gov.br
SUMMARY:Reunião Conselho de Administração
DESCRIPTION:
URL:https://ipremo.sp.gov.br/eventos/reuniao-conselho-de-administracao-11/
LOCATION:Sede Ipremo\, Avenida dos Bandeirantes\, 2070\, Ouroeste\, São Paulo\, 15685000\, Brasil
END:VEVENT
END:VCALENDAR